BEGIN:VCALENDAR
VERSION:1.0
PRODID:Open2CKalenderExportV11
BEGIN:VEVENT
DTSTAMP:20210921T103048Z
DTSTART:20211003T100000Z
DTEND:20211003T120000Z
CATEGORIES:Kindergarten
SUMMARY:Flohmarkt für Kindersachen
DESCRIPTION:Am 03.10.2021 findet unser bekannter Flohmarkt für Kindersachen im Bürgerhaus statt. | Der Flohmarkt wird vom Elternbeirat des Kindergarten und der Krippe organisiert.  | Ansprechperson ist Frau Hetzel: 0176/88007703 |  
LOCATION:Bürgerhaus
UID:3204d9143b7371675f58e9de77437bb7-ceee88474d26bc9bf8c84e6777d94c5d
PRIORITY:3
END:VEVENT
BEGIN:VEVENT
DTSTAMP:20210921T102546Z
DTSTART:20211014T193000Z
DTEND:20211014T213000Z
CATEGORIES:Kindergarten
SUMMARY:Elternabend mit Elternbeiratswahl
DESCRIPTION:Am 14.10.2021 findet unser erster Elternabend im neuen Kita-Jahr statt. Zuerst treffen wir uns für die Elternbeiratswahl im Bürgerhaus und gehen dann anschließend in die jeweiligen Gruppen. |   | Bitte beachtet, dass für diese Veranstaltung die 3G-Regelung gilt. |   | Wir freuen uns auf euer Kommen
LOCATION:
UID:59307702c8d624f57b5a84ca8cd1daf6-4bb933bbceb3cd8751b4f1856824e8c7
PRIORITY:3
END:VEVENT
END:VCALENDAR
