BEGIN:VCALENDAR
VERSION:1.0
PRODID:Open2CKalenderExportV11
BEGIN:VEVENT
DTSTAMP:20211012T091025Z
DTSTART:20211111T163000Z
DTEND:20211111T180000Z
CATEGORIES:Kindergarten
SUMMARY:Martinsfeier und Umzug
DESCRIPTION:Am 11.11 wollen wir gemeinsam das Martinsfest feieren. | Im Kindergarten starten wir nur mit den Kindern in den jeweiligen Gruppen um 16.30 Uhr. Um 17.30 Uhr kommen dann die Eltern für den gemeinsamen Umzug dazu. | Die Krippengruppen feieren individuell, hier wird der Termin und Ablauf noch bekannt gegeben. Jedoch können alle Krippenkinder mit ihren Elern am gemeinsamen Umzug teilnehmen. | Dieser Umzug ist nur für den Kindergarten und Krippe kleine Strolche. |   | Wir freuen uns auf einen leuchtenden Abend mit euch 
LOCATION:
UID:7844fb725f765cb0bd8550842ef44972-499249febea8dd2e3edde5f7ba486bf1
PRIORITY:3
END:VEVENT
END:VCALENDAR
