BEGIN:VCALENDAR
VERSION:1.0
PRODID:Open2CKalenderExportV11
BEGIN:VEVENT
DTSTAMP:20221024T102455Z
DTSTART:20221111T170000Z
DTEND:20221111T190000Z
CATEGORIES:Kindergarten
SUMMARY:Martinsfeier mit Umzug
DESCRIPTION:Am 11.11. wollen wir gemeinsam St.Martin feiern. Nach dem Umzug findet im Garten des Kindergartens noch ein gemütliches Beisammensein statt. Fürs leibliche Wohl sorgt der Elternbeirat. | Eingeladen sind alle Kinder mit ihren Eltern der kleinen Strolche. | Wir freuen uns auf ein schönes Fest.
LOCATION:
UID:eb52ac329a0a4c3e91018847ed991f2b-4982bc75c648d5b2f276253bdf8e5227
PRIORITY:3
END:VEVENT
END:VCALENDAR
