BEGIN:VCALENDAR
VERSION:1.0
PRODID:Open2CKalenderExportV11
BEGIN:VEVENT
DTSTAMP:20230509T055055Z
DTSTART:20230624T100000Z
DTEND:20230624T130000Z
CATEGORIES:Zolling
SUMMARY:Sommerfest
DESCRIPTION:Am 24.06.2023 haben wir unser Sommerfest. Ausweichtermin 01.07.2023 | Wir haben wieder tolle Aktionen vorbereitet und freuen uns auf die großen und kleinen Strolche.
LOCATION:Kindergarten und Krippe
UID:3712f2f3978ab3c4a13d8d389fa8b945-c35d68253d58a090ff815787ee05f951
PRIORITY:3
END:VEVENT
END:VCALENDAR
