BEGIN:VCALENDAR
VERSION:1.0
PRODID:Open2CKalenderExportV11
BEGIN:VEVENT
DTSTAMP:20250801T113420Z
DTSTART:20260515T000000Z
DTEND:20260515T000000Z
CATEGORIES:KinderHaus Haag
SUMMARY:Brückentag - Kinderhaus geschlossen
DESCRIPTION:
LOCATION:
UID:c4625f038b454a2668368e76a0102910-2cce2e4305f22c30376bd0956e8f602a
PRIORITY:3
END:VEVENT
END:VCALENDAR
