BEGIN:VCALENDAR
VERSION:1.0
PRODID:Open2CKalenderExportV11
BEGIN:VEVENT
DTSTAMP:20250801T113517Z
DTSTART:20260526T000000Z
DTEND:20260526T000000Z
CATEGORIES:KinderHaus Haag
SUMMARY:Kinderhaus geschlossen
DESCRIPTION:
LOCATION:
UID:f2d8dce6864b339339f7b64f33f0b900-02f0074d7b14d60f37f9483d37e0ffff
PRIORITY:3
END:VEVENT
END:VCALENDAR
