BEGIN:VCALENDAR
VERSION:1.0
PRODID:Open2CKalenderExportV11
BEGIN:VEVENT
DTSTAMP:20250801T113621Z
DTSTART:20260527T000000Z
DTEND:20260603T000000Z
CATEGORIES:KinderHaus Haag
SUMMARY:Pfingstferien
DESCRIPTION:Es gibt einen Feriendienst.
LOCATION:
UID:d05de2e99fa79e7124f5fc046d62751e-8c58edbfdfef5beceb3f0a0435f7159c
PRIORITY:3
END:VEVENT
END:VCALENDAR
