BEGIN:VCALENDAR
VERSION:1.0
PRODID:Open2CKalenderExportV11
BEGIN:VEVENT
DTSTAMP:20250801T113819Z
DTSTART:20260619T000000Z
DTEND:20260619T000000Z
CATEGORIES:KinderHaus Haag
SUMMARY:Sommerfest - Kinderhaus schließt um 13:00 Uhr
DESCRIPTION:Eine Einladung folgt.
LOCATION:
UID:b10a9287f1dca57ed90b373bf644bd30-c1e377f558f8d5a8d2ede4a7c0d6e273
PRIORITY:3
END:VEVENT
END:VCALENDAR
