BEGIN:VCALENDAR
VERSION:1.0
PRODID:Open2CKalenderExportV11
BEGIN:VEVENT
DTSTAMP:20250801T113859Z
DTSTART:20260702T000000Z
DTEND:20260702T000000Z
CATEGORIES:KinderHaus Haag
SUMMARY:Betriebsausflug - Kinderhaus geschlossen
DESCRIPTION:
LOCATION:
UID:e0e11fbb87c53319a7823155b257ff6d-b7f126b57b9f5f9a09f24536931b879c
PRIORITY:3
END:VEVENT
END:VCALENDAR
