BEGIN:VCALENDAR
VERSION:1.0
PRODID:Open2CKalenderExportV11
BEGIN:VEVENT
DTSTAMP:20250801T114650Z
DTSTART:20260902T000000Z
DTEND:20260902T000000Z
CATEGORIES:KinderHaus Haag
SUMMARY:Erster Kindergartentag nach den Sommerferien
DESCRIPTION:
LOCATION:
UID:4f8a41a6afd7caab524d8a091e2c8e7f-4e6c349f7a6a26b30c5e44eaf2257bc1
PRIORITY:3
END:VEVENT
END:VCALENDAR
