BEGIN:VCALENDAR
VERSION:1.0
PRODID:Open2CKalenderExportV11
BEGIN:VEVENT
DTSTAMP:20250801T114747Z
DTSTART:20261102T000000Z
DTEND:20261102T000000Z
CATEGORIES:KinderHaus Haag
SUMMARY:Kinderhaus geschlossen
DESCRIPTION:
LOCATION:
UID:b20c18f45ea8db4eb2e51759a369feb3-02f0074d7b14d60f37f9483d37e0ffff
PRIORITY:3
END:VEVENT
END:VCALENDAR
