BEGIN:VCALENDAR
VERSION:1.0
PRODID:Open2CKalenderExportV11
BEGIN:VEVENT
DTSTAMP:20250801T114845Z
DTSTART:20261118T000000Z
DTEND:20261118T000000Z
CATEGORIES:KinderHaus Haag
SUMMARY:Teamtag - Kinderhaus geschlossen
DESCRIPTION:
LOCATION:
UID:386c320f327eb7efcb0a38ea6a8b2520-adf34dbebab615bf1b346b38221f632e
PRIORITY:3
END:VEVENT
END:VCALENDAR
