BEGIN:VCALENDAR
VERSION:1.0
PRODID:Open2CKalenderExportV11
BEGIN:VEVENT
DTSTAMP:20250801T115012Z
DTSTART:20261224T000000Z
DTEND:20261231T000000Z
CATEGORIES:KinderHaus Haag
SUMMARY:Weihnachtsferien - Kinderhaus geschlossen
DESCRIPTION:
LOCATION:
UID:f481c0e1eb8a60b5d5d43b01478845eb-509039212c7b923079264eef8bafad32
PRIORITY:3
END:VEVENT
END:VCALENDAR
