BEGIN:VCALENDAR
VERSION:1.0
PRODID:Open2CKalenderExportV11
BEGIN:VEVENT
DTSTAMP:20250904T081930Z
DTSTART:20261103T000000Z
DTEND:20261106T000000Z
CATEGORIES:KinderHaus Haag
SUMMARY:Herbstferien
DESCRIPTION:Es gibt einen Feriendienst.
LOCATION:
UID:be6a26eab02566d135d5e128baa16e2f-9a4340e1c52c325b932bab529cc7688b
PRIORITY:3
END:VEVENT
END:VCALENDAR
