BEGIN:VCALENDAR
VERSION:1.0
PRODID:Open2CKalenderExportV11
BEGIN:VEVENT
DTSTAMP:20250904T093256Z
DTSTART:20260729T000000Z
DTEND:20260729T000000Z
CATEGORIES:KinderHaus Haag
SUMMARY:Rausschaukeln der Vorschulkinder
DESCRIPTION:Ab 14:00 Uhr werden die Vorschulkinder rausgeschaukelt.
LOCATION:
UID:38df4d62a70e1f94931175267e67ebcb-01345a57317d712b05b70883dc287a2c
PRIORITY:3
END:VEVENT
END:VCALENDAR
