BEGIN:VCALENDAR
VERSION:2.0
PRODID:< http://www.open2c.de/ >
METHOD:PUBLISH
X-PUBLISHED-TTL:PT12H
BEGIN:VEVENT
CREATED:20250801T113433Z
LAST-MODIFIED:20250801T113517Z
DTSTAMP:20260419T183440Z
DTSTART;VALUE=DATE:20260526
CATEGORIES:KinderHaus Haag
SUMMARY:Kinderhaus geschlossen
UID:c657502d844c93bfd0f7a5ce4bd601cc@13392724e9ff017e4be20c274da1fc4c
END:VEVENT
END:VCALENDAR