BEGIN:VCALENDAR
VERSION:2.0
PRODID:< http://www.open2c.de/ >
METHOD:PUBLISH
X-PUBLISHED-TTL:PT12H
BEGIN:VEVENT
CREATED:20250801T113713Z
LAST-MODIFIED:20250801T113819Z
DTSTAMP:20260419T183344Z
DTSTART;VALUE=DATE:20260619
CATEGORIES:KinderHaus Haag
SUMMARY:Sommerfest - Kinderhaus schließt um 13:00 Uhr
DESCRIPTION:Eine Einladung folgt.
UID:e42ac6eee4de7dc1bfc513139980bd37@13392724e9ff017e4be20c274da1fc4c
END:VEVENT
END:VCALENDAR