BEGIN:VCALENDAR
VERSION:2.0
PRODID:< http://www.open2c.de/ >
METHOD:PUBLISH
X-PUBLISHED-TTL:PT12H
BEGIN:VEVENT
CREATED:20250801T113823Z
LAST-MODIFIED:20250801T113859Z
DTSTAMP:20260419T183443Z
DTSTART;VALUE=DATE:20260702
CATEGORIES:KinderHaus Haag
SUMMARY:Betriebsausflug - Kinderhaus geschlossen
UID:4e229eef23ef3596c621ecbaa2164e45@13392724e9ff017e4be20c274da1fc4c
END:VEVENT
END:VCALENDAR