BEGIN:VCALENDAR
VERSION:2.0
PRODID:< http://www.open2c.de/ >
METHOD:PUBLISH
X-PUBLISHED-TTL:PT12H
BEGIN:VEVENT
CREATED:20250801T113907Z
LAST-MODIFIED:20250801T114029Z
DTSTAMP:20260419T185623Z
DTSTART:20260803T000000Z
DTEND:20260807T000000Z
CATEGORIES:KinderHaus Haag
SUMMARY:Sommerferien
DESCRIPTION:Es gibt einen Feriendienst.
UID:c4210040463a916537617d30972ad301@13392724e9ff017e4be20c274da1fc4c
END:VEVENT
END:VCALENDAR