BEGIN:VCALENDAR
VERSION:2.0
PRODID:< http://www.open2c.de/ >
METHOD:PUBLISH
X-PUBLISHED-TTL:PT12H
BEGIN:VEVENT
CREATED:20250801T114711Z
LAST-MODIFIED:20250801T114747Z
DTSTAMP:20260419T183411Z
DTSTART;VALUE=DATE:20261102
CATEGORIES:KinderHaus Haag
SUMMARY:Kinderhaus geschlossen
UID:56c36d619c8593e13a54af0ffc5d3dd6@13392724e9ff017e4be20c274da1fc4c
END:VEVENT
END:VCALENDAR